BEGIN:VCALENDAR
VERSION:2.0
PRODID:-//ChamberMaster//Event Calendar 2.0//EN
METHOD:PUBLISH
X-PUBLISHED-TTL:P3D
REFRESH-INTERVAL:P3D
CALSCALE:GREGORIAN
BEGIN:VEVENT
DTSTART:20231205T230000Z
DTEND:20231206T010000Z
X-MICROSOFT-CDO-ALLDAYEVENT:FALSE
SUMMARY:Wrap it Up & Celebrate
DESCRIPTION:Join the Bellevue Harpeth Chamber of Commerce for their "members only" annual holiday gathering\, sponsored by TriStar Centennial Medical Center.  Wrap up the year with a glass of cheer and an array of delectable hors d'oeuvres!  \n\nRSVP Requested!
X-ALT-DESC;FMTTYPE=text/html:<span style="font-size:14px\;"><span style="font-family:verdana\;">Join the Bellevue Harpeth Chamber of Commerce for their &quot\;members only&quot\; annual holiday gathering\, sponsored by TriStar Centennial Medical Center.&nbsp\; Wrap up the year with a glass of cheer and an array of delectable&nbsp\;<span style="color: rgb(70\, 70\, 70)\;">hors&nbsp\;d&rsquo\;oeuvres</span>!&nbsp\;&nbsp\;<br />\nRSVP Requested!&nbsp\;</span></span>
LOCATION:Ford Ice Center at One Bellevue Place 7638 Highway 70 South Nashville\, TN 37221
UID:e.2107.9825
SEQUENCE:3
DTSTAMP:20260424T075617Z
URL:https://business.bellevueharpethchamber.com/events/details/wrap-it-up-celebrate-9825
END:VEVENT

END:VCALENDAR
