BEGIN:VCALENDAR
VERSION:2.0
PRODID:-//ChamberMaster//Event Calendar 2.0//EN
METHOD:PUBLISH
X-PUBLISHED-TTL:P3D
REFRESH-INTERVAL:P3D
CALSCALE:GREGORIAN
BEGIN:VEVENT
DTSTART:20201001T210000Z
DTEND:20201002T000000Z
X-MICROSOFT-CDO-ALLDAYEVENT:FALSE
SUMMARY:The Bellevue Farmer's Market
DESCRIPTION:Welcome to The Bellevue Farmers Market! We are a weekly market held every Thursday from 4pm to 7pm at Red Caboose Park in Bellevue. The market will run from May to October.\n\nRed Caboose Park is located at 684 Colice Jeanne Road
X-ALT-DESC;FMTTYPE=text/html:<p class="has-text-align-center" style="box-sizing: inherit\; -webkit-font-smoothing: antialiased\; word-break: break-word\; overflow-wrap: break-word\; border: none\; font-size: 21px\; line-height: 1.476\; margin: 0px auto 1.25em\; padding: 0px\; text-align: center\; font-family: NonBreakingSpaceOverride\, &quot\;Hoefler Text&quot\;\, Garamond\, &quot\;Times New Roman&quot\;\, serif\; max-width: 120rem\; width: calc(100% - 8rem)\; color: rgb(0\, 0\, 0)\;">Welcome to The Bellevue Farmers Market! We are a weekly market held every&nbsp\;<span style="box-sizing: inherit\; -webkit-font-smoothing: antialiased\; word-break: break-word\; overflow-wrap: break-word\; font-weight: 700\;">Thursday from 4pm to 7pm at Red Caboose Park</span>&nbsp\;in Bellevue. The market will run from May to October.</p>\n\n<p class="has-text-align-center" style="box-sizing: inherit\; -webkit-font-smoothing: antialiased\; word-break: break-word\; overflow-wrap: break-word\; border: none\; font-size: 21px\; line-height: 1.476\; margin: 0px auto 1.25em\; padding: 0px\; text-align: center\; font-family: NonBreakingSpaceOverride\, &quot\;Hoefler Text&quot\;\, Garamond\, &quot\;Times New Roman&quot\;\, serif\; max-width: 120rem\; width: calc(100% - 8rem)\; color: rgb(0\, 0\, 0)\;">Red Caboose Park is located at 684 Colice Jeanne Road</p>\n
LOCATION:684 Colice Jeanne Road Red Caboose Park
UID:e.2107.7261
SEQUENCE:3
DTSTAMP:20260425T195859Z
URL:https://business.bellevueharpethchamber.com/events/details/the-bellevue-farmer-s-market-10-01-2020-7261
END:VEVENT

END:VCALENDAR
