BEGIN:VCALENDAR
VERSION:2.0
PRODID:-//ChamberMaster//Event Calendar 2.0//EN
METHOD:PUBLISH
X-PUBLISHED-TTL:P3D
REFRESH-INTERVAL:P3D
CALSCALE:GREGORIAN
BEGIN:VEVENT
DTSTART:20260319T123000Z
DTEND:20260319T140000Z
X-MICROSOFT-CDO-ALLDAYEVENT:FALSE
SUMMARY:Breakfast Before Business With Commander Jason Proctor MNPD
DESCRIPTION:We are privileged to host Commander Jason Proctor of the Metropolitan Nashville Police Department's West Precinct for a Special Breakfast before Business.\n\n\n\nWe invite you to join us for an engaging discussion on MNPD's presence and support in the Bellevue community.\n\n\n\nWith over twenty years of dedicated public service to the residents of Nashville in various roles within the police department\, Commander Proctor possesses the qualifications necessary to lead operations at the West Precinct effectively. He earned a Bachelor's Degree from Belmont University and a Master's Degree from the University of Nevada.
X-ALT-DESC;FMTTYPE=text/html:<p font-size:="" public="" sans=""><strong>We are privileged to host Commander Jason Proctor of the Metropolitan Nashville Police Department&#39\;s West Precinct for a Special Breakfast before Business.</strong><br />\n<br />\nWe invite you to join us for an engaging discussion on MNPD&#39\;s presence and support in the Bellevue community.<br />\n<br />\nWith over twenty years of dedicated public service to the residents of Nashville in various roles within the police department\, Commander Proctor possesses the qualifications necessary to lead operations at the West Precinct effectively. He earned a Bachelor&#39\;s Degree from Belmont University and a Master&#39\;s Degree from the University of Nevada.</p>\n
LOCATION:Nashville Christian School Student Success Center
UID:e.2107.10081
SEQUENCE:3
DTSTAMP:20260420T100249Z
URL:https://business.bellevueharpethchamber.com/events/details/breakfast-before-business-with-commander-jason-proctor-mnpd-10081
END:VEVENT

END:VCALENDAR
