BEGIN:VCALENDAR
VERSION:2.0
PRODID:-//ChamberMaster//Event Calendar 2.0//EN
METHOD:PUBLISH
X-PUBLISHED-TTL:P3D
REFRESH-INTERVAL:P3D
CALSCALE:GREGORIAN
BEGIN:VEVENT
DTSTART:20260516T160000Z
DTEND:20260517T023000Z
X-MICROSOFT-CDO-ALLDAYEVENT:FALSE
SUMMARY:2026 Bellevue Community Picnic
DESCRIPTION:We are excited to present the 47th Annual Bellevue Community Picnic! \n\n\n\nJoin us for live music and engaging entertainment for the entire family\, a fantastic variety of food trucks\, carnival rides\, inflatable attractions\, exhibitors\, and businesses\, plus an incredible fireworks display.\n\nIf you've attended before\, you know the excitement\, the crowds\, and the positive impact on our community. We're already planning an even bigger Bellevue Community Picnic for May 16\, 2026.\n\n\n\nRegistration live for Exhibitors\, Food vendors\, and sponsorship opportunities. Questions? Please email Hattie DeWalt\, Chamber Executive Director at info@bellevueharpethchamber.com. \n\n\n\nThere are many benefits to chamber membership\, so please consider joining before registering your exhibitor or food vendor! Chamber members receive a discount on booth registration. Go to the link below to join today.\n\nhttp://bellevueharpethchamber.com/join/
X-ALT-DESC;FMTTYPE=text/html:<div class="x14z9mp xat24cr x1lziwak x1vvkbs xtlvy1s" color:="" font-size:="" style="overflow-wrap: break-word\; margin-top: 0.5em\; margin-inline: 0px\; margin-bottom: 0px\; font-family: system-ui\, -apple-system\, "><strong>We are excited to present the 47th Annual Bellevue Community Picnic! </strong><br />\n<br />\nJoin us for live music and engaging entertainment for the entire family\, a fantastic variety of food trucks\, carnival rides\, inflatable attractions\, exhibitors\, and businesses\, plus an incredible fireworks display.</div>\n\n<div class="x14z9mp xat24cr x1lziwak x1vvkbs xtlvy1s" color:="" font-size:="" style="overflow-wrap: break-word\; margin-top: 0.5em\; margin-inline: 0px\; margin-bottom: 0px\; font-family: system-ui\, -apple-system\, ">If you&#39\;ve attended before\, you know the excitement\, the crowds\, and the positive impact on our community. We&#39\;re already planning an even bigger Bellevue Community Picnic for May 16\, 2026.<br />\n<br />\nRegistration live for Exhibitors\, Food vendors\, and sponsorship opportunities. Questions? Please email Hattie DeWalt\, Chamber Executive Director at <a href="mailto:info@bellevueharpethchamber.com">info@bellevueharpethchamber.com</a>.&nbsp\;<br />\n<br />\n<span style="font-size: 14px\;">There are many benefits to chamber membership\, so please consider joining before registering your exhibitor or food vendor!&nbsp\;</span><em style="font-size: 14px\;">Chamber members receive a discount on booth registration.</em><span style="font-size: 14px\;">&nbsp\;Go to the link below to join today.</span><br style="font-size: 14px\;" />\n<a href="http://bellevueharpethchamber.com/join/" style="font-size: 14px\;">http://bellevueharpethchamber.com/join/</a></div>\n
LOCATION:Recreational Field behind Bellevue Middle School
UID:e.2107.10071
SEQUENCE:3
DTSTAMP:20260420T100635Z
URL:https://business.bellevueharpethchamber.com/events/details/2026-bellevue-community-picnic-10071
END:VEVENT

END:VCALENDAR
